BEGIN:VCALENDAR
METHOD:PUBLISH
PRODID:-//Weblication CMS
VERSION:2.0
BEGIN:VEVENT
SUMMARY:schulfrei für alle
DTSTART;VALUE=DATE:20210512
DTEND;VALUE=DATE:20210513
DESCRIPTION:Organisationstag
LOCATION:
UID:http://www.muehleberg.ch/schule/veranstaltungen/termine/schulfrei-fuer-alle-5.php
URL:http://www.muehleberg.ch/schule/veranstaltungen/termine/schulfrei-fuer-alle-5.php
END:VEVENT
END:VCALENDAR