BEGIN:VCALENDAR
METHOD:PUBLISH
PRODID:-//Weblication CMS
VERSION:2.0
BEGIN:VEVENT
SUMMARY:schulfrei für alle
DTSTART:20231101T000000
DTEND:20231101T235959
DESCRIPTION:Fachgruppenhalbtag
LOCATION:
UID:http://www.muehleberg.ch/schule/veranstaltungen/termine/schulfrei-fuer-alle-3.php
URL:http://www.muehleberg.ch/schule/veranstaltungen/termine/schulfrei-fuer-alle-3.php
END:VEVENT
END:VCALENDAR