BEGIN:VCALENDAR
METHOD:PUBLISH
PRODID:-//Weblication CMS
VERSION:2.0
BEGIN:VEVENT
SUMMARY:Zukunftstag
DTSTART:20241114T000000
DTEND:20241114T235959
DESCRIPTION:5. - 7. Klasse
LOCATION:
UID:http://www.muehleberg.ch/schule/veranstaltungen/termine/Zukunftstag-2.php
URL:http://www.muehleberg.ch/schule/veranstaltungen/termine/Zukunftstag-2.php
END:VEVENT
END:VCALENDAR