BEGIN:VCALENDAR
METHOD:PUBLISH
PRODID:-//Weblication CMS
VERSION:2.0
BEGIN:VEVENT
SUMMARY:Wellenmorgen
DTSTART:20260609T101500
DTEND:20260609T114500
DESCRIPTION:neue Klasse kennenlernen > Unterrichtszeiten nach Stundenplan
LOCATION:
UID:http://www.muehleberg.ch/schule/veranstaltungen/termine/Wellenmorgen.php
URL:http://www.muehleberg.ch/schule/veranstaltungen/termine/Wellenmorgen.php
END:VEVENT
END:VCALENDAR