BEGIN:VCALENDAR
METHOD:PUBLISH
PRODID:-//Weblication CMS
VERSION:2.0
BEGIN:VEVENT
SUMMARY:Schulfest 2024
DTSTART:20240704T000000
DTEND:20240704T235959
DESCRIPTION:
LOCATION:
UID:http://www.muehleberg.ch/schule/veranstaltungen/termine/Schulfest-2024.php
URL:http://www.muehleberg.ch/schule/veranstaltungen/termine/Schulfest-2024.php
END:VEVENT
END:VCALENDAR