BEGIN:VCALENDAR
METHOD:PUBLISH
PRODID:-//Weblication CMS
VERSION:2.0
BEGIN:VEVENT
SUMMARY:OL Region Laupen in Allenlüften
DTSTART;VALUE=DATE:20201027
DTEND;VALUE=DATE:20201028
DESCRIPTION:Orientierungslauf Region Laupen 6.-9. Klasse
LOCATION:Allenlüften
UID:http://www.muehleberg.ch/schule/veranstaltungen/termine/OL-Region-Laupen-in-Allenlueften.php
URL:http://www.muehleberg.ch/schule/veranstaltungen/termine/OL-Region-Laupen-in-Allenlueften.php
END:VEVENT
END:VCALENDAR