BEGIN:VCALENDAR
METHOD:PUBLISH
PRODID:-//Weblication CMS
VERSION:2.0
BEGIN:VEVENT
SUMMARY:Elternabend Zyklus 3
DTSTART:20240819T190000
DTEND:20240819T230000
DESCRIPTION:7. - 9. Klasse
LOCATION:
UID:http://www.muehleberg.ch/schule/veranstaltungen/termine/Elternabend-Zyklus-3.php
URL:http://www.muehleberg.ch/schule/veranstaltungen/termine/Elternabend-Zyklus-3.php
END:VEVENT
END:VCALENDAR