BEGIN:VCALENDAR
METHOD:PUBLISH
PRODID:-//Weblication CMS
VERSION:2.0
BEGIN:VEVENT
SUMMARY:Elternabend 7.-9. Klasse
DTSTART:20230821T190000
DTEND:20230821T210000
DESCRIPTION:weitere Infos folgen
LOCATION:Allenlüften
UID:http://www.muehleberg.ch/schule/veranstaltungen/termine/Elternabend-7-9-Klasse.php
URL:http://www.muehleberg.ch/schule/veranstaltungen/termine/Elternabend-7-9-Klasse.php
END:VEVENT
END:VCALENDAR