BEGIN:VCALENDAR
METHOD:PUBLISH
PRODID:-//Weblication CMS
VERSION:2.0
BEGIN:VEVENT
SUMMARY:Elternabend 5./6. Klassen
DTSTART:20230828T190000
DTEND:20230828T210000
DESCRIPTION:weitere Infos folgen
LOCATION:Allenlüften
UID:http://www.muehleberg.ch/schule/veranstaltungen/termine/Elternabend-5-6-Klassen.php
URL:http://www.muehleberg.ch/schule/veranstaltungen/termine/Elternabend-5-6-Klassen.php
END:VEVENT
END:VCALENDAR