BEGIN:VCALENDAR
METHOD:PUBLISH
PRODID:-//Weblication CMS
VERSION:2.0
BEGIN:VEVENT
SUMMARY:Elternabend 3./4. Klassen
DTSTART:20230822T190000
DTEND:20230822T210000
DESCRIPTION:weitere Infos folgen
LOCATION:Allenlüften
UID:http://www.muehleberg.ch/schule/veranstaltungen/termine/Elternabend-3-4-Klassen.php
URL:http://www.muehleberg.ch/schule/veranstaltungen/termine/Elternabend-3-4-Klassen.php
END:VEVENT
END:VCALENDAR